BEGIN:VCALENDAR
VERSION:2.0
PRODID:-//Tenisový Klub Kúpele Piešťany - ECPv6.15.17//NONSGML v1.0//EN
CALSCALE:GREGORIAN
METHOD:PUBLISH
X-WR-CALNAME:Tenisový Klub Kúpele Piešťany
X-ORIGINAL-URL:https://tenispiestany.sk
X-WR-CALDESC:Udalosti pre Tenisový Klub Kúpele Piešťany
REFRESH-INTERVAL;VALUE=DURATION:PT1H
X-Robots-Tag:noindex
X-PUBLISHED-TTL:PT1H
BEGIN:VTIMEZONE
TZID:Europe/Bratislava
BEGIN:DAYLIGHT
TZOFFSETFROM:+0100
TZOFFSETTO:+0200
TZNAME:CEST
DTSTART:20200329T010000
END:DAYLIGHT
BEGIN:STANDARD
TZOFFSETFROM:+0200
TZOFFSETTO:+0100
TZNAME:CET
DTSTART:20201025T010000
END:STANDARD
BEGIN:DAYLIGHT
TZOFFSETFROM:+0100
TZOFFSETTO:+0200
TZNAME:CEST
DTSTART:20210328T010000
END:DAYLIGHT
BEGIN:STANDARD
TZOFFSETFROM:+0200
TZOFFSETTO:+0100
TZNAME:CET
DTSTART:20211031T010000
END:STANDARD
BEGIN:DAYLIGHT
TZOFFSETFROM:+0100
TZOFFSETTO:+0200
TZNAME:CEST
DTSTART:20220327T010000
END:DAYLIGHT
BEGIN:STANDARD
TZOFFSETFROM:+0200
TZOFFSETTO:+0100
TZNAME:CET
DTSTART:20221030T010000
END:STANDARD
BEGIN:DAYLIGHT
TZOFFSETFROM:+0100
TZOFFSETTO:+0200
TZNAME:CEST
DTSTART:20230326T010000
END:DAYLIGHT
BEGIN:STANDARD
TZOFFSETFROM:+0200
TZOFFSETTO:+0100
TZNAME:CET
DTSTART:20231029T010000
END:STANDARD
BEGIN:DAYLIGHT
TZOFFSETFROM:+0100
TZOFFSETTO:+0200
TZNAME:CEST
DTSTART:20240331T010000
END:DAYLIGHT
BEGIN:STANDARD
TZOFFSETFROM:+0200
TZOFFSETTO:+0100
TZNAME:CET
DTSTART:20241027T010000
END:STANDARD
BEGIN:DAYLIGHT
TZOFFSETFROM:+0100
TZOFFSETTO:+0200
TZNAME:CEST
DTSTART:20250330T010000
END:DAYLIGHT
BEGIN:STANDARD
TZOFFSETFROM:+0200
TZOFFSETTO:+0100
TZNAME:CET
DTSTART:20251026T010000
END:STANDARD
END:VTIMEZONE
BEGIN:VEVENT
DTSTART;VALUE=DATE:20240210
DTEND;VALUE=DATE:20240214
DTSTAMP:20260425T222233
CREATED:20231028T115826Z
LAST-MODIFIED:20240119T092202Z
UID:10572-1707523200-1707868799@tenispiestany.sk
SUMMARY:Halové majstrovstvá Slovenska dorasteniek
DESCRIPTION:Všetky informácie o turnaji https://www.etenis.sk/index.php?nav=terminovka&nav1=oficialni_detail&id_terminovka=9875&filtr_vek_kat=10&filtr_kraj=&filtr_trida=1&filtr_obdobi=&filtr_den_zacatek=&filtr_mes_zacatek=&filtr_rok_zacatek=&from=0&odkud_terminovka=terminovka&odkud1_terminovka=oficialni&
URL:https://tenispiestany.sk/turnaj/halove-majstrovstva-slovenska-dorasteniek/
LOCATION:Tenisový klub Kúpele Piešťany\, E. Belluša 4821/2\, Piešťany\, 92101\, Slovenská republika
CATEGORIES:Jednotlivci
ATTACH;FMTTYPE=image/jpeg:https://tenispiestany.sk/wp-content/uploads/HMSR_dorasteniek_plagat_A3.jpg
END:VEVENT
BEGIN:VEVENT
DTSTART;TZID=Europe/Bratislava:20240110T080000
DTEND;TZID=Europe/Bratislava:20240110T170000
DTSTAMP:20260425T222233
CREATED:20240110T061711Z
LAST-MODIFIED:20240110T062159Z
UID:10655-1704873600-1704906000@tenispiestany.sk
SUMMARY:Tenisti – starší žiaci na Halových majstrovstvách Slovenska
DESCRIPTION:Od 6. do 9. januára 2024 sa v bratislavskej hale Slávie STU konali Halové majstrovstvá Slovenska v kategórii starších žiakov. Predstavilo sa na nich 32 najlepších tenistov do 14 rokov z celého Slovenska. \nNa tohtoročné majstrovstvá sa kvalifikovala aj trojica hráčov nášho klubu. Najviac sa darilo najmladšiemu z nich 12-ročnému Martinovi Adamčovi\, ktorý v dvojhre po víťazstve v 1. kole nad Tobiasom Baranovičom 6:1\, 6:1 podľahol v 2. kole prvému nasadenému Filipovi Čiernemu 1:6\, 2:6. Následne sa v štvorhre\, spoločne s Matteom Sansonom zo Slávie STU Bratislava\, prebojovali až do finále\, v ktorom tesnou prehrou podľahli dvojici Maruščák – Lisko a získali tak zaslúžené strieborné medaile. Ďalší hráč klubu Jakub Rusnák zvíťazil v 1. kole nad Michalom Gallom 6:4\, 6:1\, avšak v 2. kole podľahol neskoršiemu finalistovi Jurajovi Kováčikovi. V štvorhre s Arturom Bartovicom podľahli v malom derby dvojici Adamča – Sanson. Tretím zástupcom klubu bol Artur Bartovic\, ktorému však neprial žreb\, keď v 1. kole narazil na piateho nasadeného Andreja Adamovića\, neskoršieho semifinalistu\, ktorému podľahol v dvoch setoch. \nAvšak už samotná kvalifikácia hráčov klubu na majstrovstvách Slovenska je nesporným úspechom Tenisového klubu Kúpele Piešťany. Všetkým trom chlapcom a ich trénerom ďakujeme za výbornú reprezentáciu klubu a špeciálne blahoželáme Martinovi Adamčovi ku krásnemu umiestneniu na Halových majstrovstvách Slovenska.
URL:https://tenispiestany.sk/turnaj/tenisti-starsi-ziaci-na-halovych-majstrovstvach-slovenska/
CATEGORIES:Jednotlivci
ATTACH;FMTTYPE=image/png:https://tenispiestany.sk/wp-content/uploads/stz-logo-1.png
END:VEVENT
BEGIN:VEVENT
DTSTART;VALUE=DATE:20230909
DTEND;VALUE=DATE:20230911
DTSTAMP:20260425T222233
CREATED:20230819T133309Z
LAST-MODIFIED:20230819T133309Z
UID:10524-1694217600-1694390399@tenispiestany.sk
SUMMARY:Majstrovstvá SR družstiev seniorov 45+ a 65+
DESCRIPTION:
URL:https://tenispiestany.sk/turnaj/majstrovstva-sr-druzstiev-seniorov-45-a-65/
LOCATION:Tenisový klub Kúpele Piešťany\, E. Belluša 4821/2\, Piešťany\, 92101\, Slovenská republika
CATEGORIES:Družstvá
END:VEVENT
BEGIN:VEVENT
DTSTART;VALUE=DATE:20230904
DTEND;VALUE=DATE:20230906
DTSTAMP:20260425T222233
CREATED:20230819T133601Z
LAST-MODIFIED:20230828T120422Z
UID:10526-1693785600-1693958399@tenispiestany.sk
SUMMARY:Pohár prezidenta STZ v kategórii mladšie žiactvo
DESCRIPTION:  \nProgram a organizačné pokyny pre hráčov a kapitánov k Poháru prezidenta STZ na rok 2023 v kategórii mladšie žiactvo\, Piešťany 3.-5.9.2023 \n  \nNedeľa 3.9.2023: \n\n14.00 – 15.00 hod. príchod účastníkov do Piešťan a check-in v hoteli Anne Mary Piešťany\, Pod Párovcami 3\, 921 01 Piešťany https://www.hotelannemary.sk/hotel/ (pešo cca 10 min od dvorcov)\n16.00 – 17.30 hod. rozohrávka na dvorcoch TK Kúpele Piešťany (2 tuby lôpt pre každý región dodá ZsTZ)\n17.30 – 18.00 hod. hygiena na dvorcoch\n18.00 – 18.30 hod. spoločná večera na dvorcoch\n\nPondelok 4.9.2023: \n\n7.30 – 8.15 hod. raňajky v hoteli\n8.30 hod. prezentácia družstiev na dvorcoch a žrebovanie\n8.30 – 9.15 hod. rozohrávka (každý región má rezervované 2 dvorce)\n9.30 hod. začiatok zápasov (poradie zápasov – viď rozpis súťaže)\n11.30 – 13.30 hod. obed na dvorcoch\n17.30 – 18.30 hod. večera na dvorcoch\n\nUtorok 5.9.2023: \n\n7.30 – 8.15 hod. raňajky v hoteli\n8.30 – 9.15 hod. rozohrávka\n9.30 hod. začiatok zápasov (poradie zápasov – viď rozpis súťaže)\n11.30 – 13.30 hod. obed na dvorcoch\n14.00 – 16.00 hod. ukončenie súťaže a vyhlásenie výsledkov\n\nAreál:  \n\nzápasy sa budú hrať na dvorcoch č. 8\, 10 a 11\nzdravotníčka Nela Macková 0950 436 064\nriaditeľstvo (kancelária) turnaja sa nachádza v domčeku oproti dvorcu č. 6\nnajbližšie WC pre zápasy hrané na dvorcoch 6-11 sa nachádzajú v „prevádzkovej budove“ za dvorcami č. 10\, 11\nďalšie WC sa nachádza na letnej terase\nWC\, sprchy a šatne sú v starej hale (vchod od ulice) a v „prevádzkovej budove“ za dvorcami č. 10\, 11\nvypletanie rakiet:\n\nAnton Gudiak 0903 843 901\nMartin Depeš 0905 485 696\nTibor Varinský 0915 345 333\n\n\n\nUbytovanie s raňajkami je rezervované pre 30 osôb (10x z každého regiónu). \nStravovanie (obedy a večere) je rezervované pre 30 osôb (po 10x z každého regiónu).
URL:https://tenispiestany.sk/turnaj/pohar-prezidenta-stz-v-kategorii-mladsie-ziactvo/
LOCATION:Tenisový klub Kúpele Piešťany\, E. Belluša 4821/2\, Piešťany\, 92101\, Slovenská republika
CATEGORIES:Družstvá
ATTACH;FMTTYPE=image/jpeg:https://tenispiestany.sk/wp-content/uploads/IMG-20230731-WA0031.jpg
END:VEVENT
BEGIN:VEVENT
DTSTART;VALUE=DATE:20230822
DTEND;VALUE=DATE:20230825
DTSTAMP:20260425T222233
CREATED:20230819T095425Z
LAST-MODIFIED:20230819T095843Z
UID:10513-1692662400-1692921599@tenispiestany.sk
SUMMARY:Majstrovstvá SR družstiev starších žiakov
DESCRIPTION:  \n  \nŽreb MSRD starších žiakov: zreb_msr_dru_stzci 2023 \n 
URL:https://tenispiestany.sk/turnaj/majstrovstva-sr-druzstiev-starsich-ziakov/
LOCATION:Tenisový klub Kúpele Piešťany\, E. Belluša 4821/2\, Piešťany\, 92101\, Slovenská republika
CATEGORIES:Družstvá
END:VEVENT
BEGIN:VEVENT
DTSTART;VALUE=DATE:20230710
DTEND;VALUE=DATE:20230717
DTSTAMP:20260425T222233
CREATED:20230622T121213Z
LAST-MODIFIED:20230706T073802Z
UID:10467-1688947200-1689551999@tenispiestany.sk
SUMMARY:TEJT 3 U16 "KUPELE CUP U16 2023"
DESCRIPTION:  \nBližšie informácie o turnaji nájdete https://te.tournamentsoftware.com/tournament/6FF8C4C4-94C7-463E-91B8-08F362D3A953 \nUpozorňujeme všetkých domácich aj zahraničných hráčov\, ktorí sa nestihli prihlásiť cez systém Tennis Europe na turnaj\, resp. sa z neho odhlásili\, a majú záujem na ňom hrať\, že je možné sa do turnaja ešte zaregistrovať u riaditeľa turnaja Andreja Bartovica telefonicky na +421 905 645 074 nasledovne: \n\nchlapci do kvalifikácie v nedeľu dňa 9.7.2023 v čase od 15\,00 do 17\,30 hod.\, kvalifikácia chlapcov začne v pondelok 10.7.2023;\ndievčatá do hlavnej súťaže v utorok dňa 11.7.2023 v čase od 15\,00 do 17\,30 hod. (kvalifikácia dievčat je zrušená)\, hlavná súťaž začne v stredu 12.7.2023.\n\nPodmienkou je mať aktívny IPIN.
URL:https://tenispiestany.sk/turnaj/tejt-3-u16-kupele-cup-u16-2023/
LOCATION:Tenisový klub Kúpele Piešťany\, E. Belluša 4821/2\, Piešťany\, 92101\, Slovenská republika
CATEGORIES:Jednotlivci
ATTACH;FMTTYPE=image/jpeg:https://tenispiestany.sk/wp-content/uploads/Kupele-cup-plagát-scaled.jpeg
END:VEVENT
BEGIN:VEVENT
DTSTART;VALUE=DATE:20230708
DTEND;VALUE=DATE:20230711
DTSTAMP:20260425T222233
CREATED:20230326T175619Z
LAST-MODIFIED:20230326T175619Z
UID:10253-1688774400-1689033599@tenispiestany.sk
SUMMARY:Letné Majstrovstvá SR jednotlivcov v seniorských kategóriách
DESCRIPTION:  \nhttps://www.zasportujsiopen.sk/turnaje \n 
URL:https://tenispiestany.sk/turnaj/letne-majstrovstva-sr-jednotlivcov-v-seniorskych-kategoriach/
LOCATION:Tenisový klub Kúpele Piešťany\, E. Belluša 4821/2\, Piešťany\, 92101\, Slovenská republika
CATEGORIES:Jednotlivci
END:VEVENT
BEGIN:VEVENT
DTSTART;VALUE=DATE:20230612
DTEND;VALUE=DATE:20230617
DTSTAMP:20260425T222233
CREATED:20230326T174718Z
LAST-MODIFIED:20230615T122722Z
UID:10247-1686528000-1686959999@tenispiestany.sk
SUMMARY:Letné Majstrovstvá SR ml. dorastu jednotlivcov (do 16 rokov)
DESCRIPTION:Časový harmonogram turnaja: casovy harmogram LMSR MLD 2023 \nPoradie zápasov v pondelok 12. júna 2023: poradie zapasov PONDELOK 12 06 2023 \nPoradie zápasov v utorok 13. júna 2023: poradie zapasov UTOROK\, 13.6. \nPoradie zápasov v stredu 14. júna 2023: poradie zapasov STREDA\, 14.6. \nPoradie zápasov vo štvrtok 15. júna 2023: poradie zapasov ŠTVRTOK\, 15.6.2023 \nPoradie zápasov v piatok 16. júna 2023: poradie zapasov PIATOK\, 16.6.2023 \n  \nMajstrovstvá môžete sledovať naživo. STZ zabezpečil livestream zo štyroch kurtov (dvorce č. 6\, 8\, 10 a 11). Linky na live prenosy nájdete na https://tenipo.com/tournament/232461. \nZároveň môžete sledovať livescore zo všetkých kurtov v aplikácii TENIPO https://tenipo.com/tournament/232461. \n  \nKancelária riaditeľstva turnaja (prezentácia hráčov\, informačná služba\, zápis do štvorhier\, preberanie lôpt pred zápasom\, nahlasovanie výsledkov zápasov a odovzdanie lôpt po zápase ) sa nachádza v drevenom domčeku oproti dvorcu č. 6.  \n  \nObedy (denné menu) a občerstvenie je možné si zakúpiť na letnej terase klubu “Tennis Garden”. \n  \nPre účastníkov sú v areáli klubu k dispozícii šatne so sprchami a toaletami:  \n\nna prízemí v starej hale so vstupom od ulice E. Belluša\nv sociálnej budove klubu za dvorcami č. 10 a 11\n\nToalety aj na letnej terase. \nPočas zápasov by hráči ako najbližšie toalety mali využívať:  \n\npočas zápasov na dvorcoch č. 1 – 5 toalety na letnej terase\npočas zápasov na dvorcoch č. 6 – 11 toalety v prevádzkovej budove (za dvorcami č. 10 a 11)\n\n  \nPre vstup do areálu a parkovanie môžete využiť:  \n\nHlavný vchod do areálu zo severnej strany – od ulice E. Belluša\, s parkovaním pred starou halou na ulici (adresa) E. Belluša 2\, Piešťany.\nLetný vchod do areálu z južnej strany (za dvorcami č. 10 a 11) – od Kuzmányho ulice\, s možnosťou parkovania na parkovisku pred futbalovým štadiónom a pred DIPLOMAT arénou (basketbalovou halou)\, adresa Kuzmányho 19\, Piešťany.\n\n 
URL:https://tenispiestany.sk/turnaj/letne-majstrovstva-sr-ml-dorastu-jednotlivcov-do-16-rokov/
LOCATION:Tenisový klub Kúpele Piešťany\, E. Belluša 4821/2\, Piešťany\, 92101\, Slovenská republika
CATEGORIES:Jednotlivci
ATTACH;FMTTYPE=image/jpeg:https://tenispiestany.sk/wp-content/uploads/MSRMD_web_1080x1080.jpg
END:VEVENT
BEGIN:VEVENT
DTSTART;VALUE=DATE:20230610
DTEND;VALUE=DATE:20230612
DTSTAMP:20260425T222233
CREATED:20230529T091902Z
LAST-MODIFIED:20230529T091902Z
UID:10385-1686355200-1686527999@tenispiestany.sk
SUMMARY:Oblastné kolo Detského Davis cupu do 10 rokov
DESCRIPTION:
URL:https://tenispiestany.sk/turnaj/oblastne-kolo-detskeho-davis-cupu-do-10-rokov-2/
LOCATION:Tenisový klub Kúpele Piešťany\, E. Belluša 4821/2\, Piešťany\, 92101\, Slovenská republika
END:VEVENT
BEGIN:VEVENT
DTSTART;VALUE=DATE:20230520
DTEND;VALUE=DATE:20230521
DTSTAMP:20260425T222233
CREATED:20230326T174349Z
LAST-MODIFIED:20230326T174349Z
UID:10244-1684540800-1684540800@tenispiestany.sk
SUMMARY:Letné majstrovstvá regiónu dospelých
DESCRIPTION:
URL:https://tenispiestany.sk/turnaj/letne-majstrovstva-regionu-dospelych/
LOCATION:Tenisový klub Kúpele Piešťany\, E. Belluša 4821/2\, Piešťany\, 92101\, Slovenská republika
CATEGORIES:Jednotlivci
END:VEVENT
BEGIN:VEVENT
DTSTART;VALUE=DATE:20230507
DTEND;VALUE=DATE:20230515
DTSTAMP:20260425T222233
CREATED:20220219T071323Z
LAST-MODIFIED:20230504T065628Z
UID:9574-1683417600-1684108799@tenispiestany.sk
SUMMARY:The 30th ENSANA Piestany Cup - TEJT 1\, žiactvo do 14 rokov
DESCRIPTION:Bližšie informácie o turnaji nájdete https://te.tournamentsoftware.com/tournament/ACBBEEEF-3A18-4C03-85AF-7FAE055127B8
URL:https://tenispiestany.sk/turnaj/the-30th-ensana-piestany-cup-tejt-1-ziactvo-do-14-rokov/
LOCATION:Tenisový klub Kúpele Piešťany\, E. Belluša 4821/2\, Piešťany\, 92101\, Slovenská republika
CATEGORIES:Jednotlivci
ATTACH;FMTTYPE=image/png:https://tenispiestany.sk/wp-content/uploads/20230428_facebook_post.png
END:VEVENT
BEGIN:VEVENT
DTSTART;VALUE=DATE:20230506
DTEND;VALUE=DATE:20230507
DTSTAMP:20260425T222233
CREATED:20230326T180622Z
LAST-MODIFIED:20230326T181042Z
UID:10261-1683331200-1683417599@tenispiestany.sk
SUMMARY:Extraliga žien TK Kúpele Piešťany vs TC Empire Trnava
DESCRIPTION:Extraliga žien: \nTK Kúpele Piešťany vs TC Empire Trnava
URL:https://tenispiestany.sk/turnaj/extraliga-zien-tk-kupele-piestany-vs-tc-empire-trnava/
CATEGORIES:Družstvá
ATTACH;FMTTYPE=image/jpeg:https://tenispiestany.sk/wp-content/uploads/Extraliga-vs-Slovan-2022-scaled.jpg
END:VEVENT
BEGIN:VEVENT
DTSTART;VALUE=DATE:20230501
DTEND;VALUE=DATE:20230502
DTSTAMP:20260425T222233
CREATED:20230326T180855Z
LAST-MODIFIED:20230326T180855Z
UID:10263-1682899200-1682985599@tenispiestany.sk
SUMMARY:Extraliga žien TK Kúpele Piešťany vs TK Žilina
DESCRIPTION:Extraliga žien: \nTK Kúpele Piešťany vs TK Žilina
URL:https://tenispiestany.sk/turnaj/extraliga-zien-tk-kupele-piestany-vs-tk-zilina/
CATEGORIES:Družstvá
ATTACH;FMTTYPE=image/jpeg:https://tenispiestany.sk/wp-content/uploads/Extraliga-vs-Zilina-2022-scaled.jpg
END:VEVENT
BEGIN:VEVENT
DTSTART;VALUE=DATE:20230501
DTEND;VALUE=DATE:20230502
DTSTAMP:20260425T222233
CREATED:20230326T180422Z
LAST-MODIFIED:20230326T181124Z
UID:10259-1682899200-1682985599@tenispiestany.sk
SUMMARY:Extraliga mužov TK Kúpele Piešťany vs ŠK Blava 1928 J. Bohunice
DESCRIPTION:Extraliga mužov: \nTK Kúpele Piešťany vs ŠK Blava 1928 J.Bohunice \n 
URL:https://tenispiestany.sk/turnaj/extraliga-muzov-tk-kupele-piestany-vs-sk-blava-1928-j-bohunice/
CATEGORIES:Družstvá
ATTACH;FMTTYPE=image/jpeg:https://tenispiestany.sk/wp-content/uploads/Muži-postup-1.-liga-v-šali-2022-scaled.jpg
END:VEVENT
BEGIN:VEVENT
DTSTART;VALUE=DATE:20230107
DTEND;VALUE=DATE:20230111
DTSTAMP:20260425T222233
CREATED:20221029T074237Z
LAST-MODIFIED:20230104T143810Z
UID:10107-1673049600-1673395199@tenispiestany.sk
SUMMARY:Halové majstrovstvá Slovenska starších žiakov
DESCRIPTION:
URL:https://tenispiestany.sk/turnaj/halove-majstrovstva-slovenska-starsich-ziakov/
LOCATION:Tenisový klub Kúpele Piešťany\, E. Belluša 4821/2\, Piešťany\, 92101\, Slovenská republika
CATEGORIES:Jednotlivci
ATTACH;FMTTYPE=image/jpeg:https://tenispiestany.sk/wp-content/uploads/HMSR_plagat_A4.jpg
END:VEVENT
BEGIN:VEVENT
DTSTART;VALUE=DATE:20221217
DTEND;VALUE=DATE:20221221
DTSTAMP:20260425T222233
CREATED:20221029T073744Z
LAST-MODIFIED:20221216T090232Z
UID:10105-1671235200-1671580799@tenispiestany.sk
SUMMARY:Halové majstrovstvá západoslovenského regiónu starších žiakov
DESCRIPTION:Rozpis Halových majstrovstiev regiónu 2023: \nRozpis HMR 2023 \nInformácie k HMR starších žiakov v Piešťanoch: \nHMR 2023 info \nČasový harmonogram turnaja a denný program: \nHMR harmonogram a denný program \nLink na turnaj v etenise: https://www.etenis.sk/index.php?nav=terminovka&nav1=oficialni_detail&id_terminovka=9576&filtr_vek_kat=5&filtr_kraj=&filtr_trida=&filtr_obdobi=&filtr_den_zacatek=&filtr_mes_zacatek=&filtr_rok_zacatek=&from=0&odkud_terminovka=terminovka&odkud1_terminovka=oficialni& \n  \n 
URL:https://tenispiestany.sk/turnaj/halove-majstrovstva-zapadoslovenskeho-regionu-starsich-ziakov/
LOCATION:Tenisový klub Kúpele Piešťany\, E. Belluša 4821/2\, Piešťany\, 92101\, Slovenská republika
ATTACH;FMTTYPE=image/jpeg:https://tenispiestany.sk/wp-content/uploads/HMZSR_stvorec_1080x1080.jpg
END:VEVENT
BEGIN:VEVENT
DTSTART;TZID=Europe/Bratislava:20220917T090000
DTEND;TZID=Europe/Bratislava:20220918T170000
DTSTAMP:20260425T222233
CREATED:20220718T113526Z
LAST-MODIFIED:20220718T113526Z
UID:10033-1663405200-1663520400@tenispiestany.sk
SUMMARY:Majstrovstvá SR družstiev seniorov 65+
DESCRIPTION:  \nhttps://www.stz.sk/seniorsky-tenis/m-sr-druzstiev-seniorov-2022
URL:https://tenispiestany.sk/turnaj/majstrovstva-sr-druzstiev-seniorov-65/
LOCATION:Tenisový klub Kúpele Piešťany\, E. Belluša 4821/2\, Piešťany\, 92101\, Slovenská republika
CATEGORIES:Družstvá
END:VEVENT
BEGIN:VEVENT
DTSTART;TZID=Europe/Bratislava:20220819T090000
DTEND;TZID=Europe/Bratislava:20220821T170000
DTSTAMP:20260425T222233
CREATED:20220718T113218Z
LAST-MODIFIED:20220718T113319Z
UID:10030-1660899600-1661101200@tenispiestany.sk
SUMMARY:Majstrovstvá SR družstiev mladších žiakov
DESCRIPTION:  \nhttps://www.stz.sk/druzstva/m-sr-druzstiev-mladeze-2022
URL:https://tenispiestany.sk/turnaj/majstrovstva-sr-druzstiev-mladsich-ziakov/
LOCATION:Tenisový klub Kúpele Piešťany\, E. Belluša 4821/2\, Piešťany\, 92101\, Slovenská republika
CATEGORIES:Družstvá
END:VEVENT
BEGIN:VEVENT
DTSTART;VALUE=DATE:20220523
DTEND;VALUE=DATE:20220528
DTSTAMP:20260425T222233
CREATED:20220219T072639Z
LAST-MODIFIED:20220526T132402Z
UID:9581-1653264000-1653695999@tenispiestany.sk
SUMMARY:Letné Majstrovstvá SR mladšieho žiactva jednotlivcov do 12 rokov
DESCRIPTION:PIATOK PROGRAM \ncasovy harmogram LMSR MLZ 2022 \nOrganizačný výbor LMSR MLŽ 2022 \nKancelária riaditeľstva LMSR 2022 \nubytovanie Letné MSR \nParkovanie a šatne počas LMSR 2022 \nLivestream a livescoring z LMSR 2022 \nRozpis LMSR 2022 mladez
URL:https://tenispiestany.sk/turnaj/letne-majstrovstva-sr-mladsieho-ziactva-jednotlivcov-do-12-rokov-2/
LOCATION:Tenisový klub Kúpele Piešťany\, E. Belluša 4821/2\, Piešťany\, 92101\, Slovenská republika
END:VEVENT
BEGIN:VEVENT
DTSTART;TZID=Europe/Bratislava:20220430T090000
DTEND;TZID=Europe/Bratislava:20220430T120000
DTSTAMP:20260425T222233
CREATED:20220219T081210Z
LAST-MODIFIED:20220219T081245Z
UID:9601-1651309200-1651320000@tenispiestany.sk
SUMMARY:"Mini Tennis Open Morning" určený pre záujemcov o tenis z radov najmenších
DESCRIPTION:
URL:https://tenispiestany.sk/turnaj/mini-tennis-open-morning-urcene-pre-zaujemcov-o-tenis-z-radov-najmensich/
LOCATION:Tenisový klub Kúpele Piešťany\, E. Belluša 4821/2\, Piešťany\, 92101\, Slovenská republika
CATEGORIES:Klub
END:VEVENT
BEGIN:VEVENT
DTSTART;VALUE=DATE:20220417
DTEND;VALUE=DATE:20220425
DTSTAMP:20260425T222233
CREATED:20220125T111932Z
LAST-MODIFIED:20220219T072251Z
UID:9518-1650153600-1650844799@tenispiestany.sk
SUMMARY:43th ENSANA Slovakia Cup - ITF 2\, dorast do 18 rokov
DESCRIPTION:  \nFotografie z roku roku 2019 (posledného odohraného ročníka)\, v ktorom zvíťazili vo dvojhrách Jiří Lehečka a Linda Fruhvirtová:
URL:https://tenispiestany.sk/turnaj/43th-slovakia-cup-itf-2-u18/
LOCATION:Tenisový klub Kúpele Piešťany\, E. Belluša 4821/2\, Piešťany\, 92101\, Slovenská republika
CATEGORIES:Jednotlivci
END:VEVENT
BEGIN:VEVENT
DTSTART;TZID=Europe/Bratislava:20210827T090000
DTEND;TZID=Europe/Bratislava:20210829T170000
DTSTAMP:20260425T222233
CREATED:20210802T080055Z
LAST-MODIFIED:20210802T080055Z
UID:9283-1630054800-1630256400@tenispiestany.sk
SUMMARY:Majstrovstvá SR družstiev seniori 35+
DESCRIPTION:
URL:https://tenispiestany.sk/turnaj/majstrovstva-sr-druzstiev-seniori-35/
LOCATION:Tenisový klub Kúpele Piešťany\, E. Belluša 4821/2\, Piešťany\, 92101\, Slovenská republika
CATEGORIES:Družstvá
END:VEVENT
BEGIN:VEVENT
DTSTART;TZID=Europe/Bratislava:20210820T090000
DTEND;TZID=Europe/Bratislava:20210822T170000
DTSTAMP:20260425T222233
CREATED:20210802T080015Z
LAST-MODIFIED:20210802T080015Z
UID:9281-1629450000-1629651600@tenispiestany.sk
SUMMARY:Majstrovstvá SR družstiev mladších žiačok
DESCRIPTION:
URL:https://tenispiestany.sk/turnaj/majstrovstva-sr-druzstiev-mladsich-ziacok/
LOCATION:Tenisový klub Kúpele Piešťany\, E. Belluša 4821/2\, Piešťany\, 92101\, Slovenská republika
CATEGORIES:Družstvá
END:VEVENT
BEGIN:VEVENT
DTSTART;VALUE=DATE:20210807
DTEND;VALUE=DATE:20210810
DTSTAMP:20260425T222233
CREATED:20201201T124457Z
LAST-MODIFIED:20210618T100940Z
UID:9039-1628294400-1628553599@tenispiestany.sk
SUMMARY:LOMBARD CUP - Celoštátny turnaj detí do 10 rokov
DESCRIPTION:
URL:https://tenispiestany.sk/turnaj/celostatny-turnaj-deti-do-10-rokov-2/
LOCATION:Tenisový klub Kúpele Piešťany\, E. Belluša 4821/2\, Piešťany\, 92101\, Slovenská republika
END:VEVENT
BEGIN:VEVENT
DTSTART;VALUE=DATE:20210731
DTEND;VALUE=DATE:20210803
DTSTAMP:20260425T222234
CREATED:20201201T124350Z
LAST-MODIFIED:20210618T100920Z
UID:9037-1627689600-1627948799@tenispiestany.sk
SUMMARY:FOBOS CUP - Celoštátny turnaj dorastu – trieda C
DESCRIPTION:
URL:https://tenispiestany.sk/turnaj/celostatny-turnaj-dorastu-trieda-c/
LOCATION:Tenisový klub Kúpele Piešťany\, E. Belluša 4821/2\, Piešťany\, 92101\, Slovenská republika
END:VEVENT
BEGIN:VEVENT
DTSTART;VALUE=DATE:20210728
DTEND;VALUE=DATE:20210731
DTSTAMP:20260425T222234
CREATED:20201201T124223Z
LAST-MODIFIED:20201201T124223Z
UID:9035-1627430400-1627689599@tenispiestany.sk
SUMMARY:Galeo Valerio Cup - kvalifikačná skupina ME družstiev dorastencov\, U18
DESCRIPTION:
URL:https://tenispiestany.sk/turnaj/galeo-valerio-cup-kvalifikacna-skupina-me-druzstiev-dorastencov-u18/
LOCATION:Tenisový klub Kúpele Piešťany\, E. Belluša 4821/2\, Piešťany\, 92101\, Slovenská republika
END:VEVENT
BEGIN:VEVENT
DTSTART;VALUE=DATE:20210719
DTEND;VALUE=DATE:20210722
DTSTAMP:20260425T222234
CREATED:20201201T123816Z
LAST-MODIFIED:20210618T100903Z
UID:9033-1626652800-1626911999@tenispiestany.sk
SUMMARY:Memoriál MUDr. Miroslava Ondreja - Celoštátny turnaj staršieho žiactva – trieda C
DESCRIPTION:
URL:https://tenispiestany.sk/turnaj/celostatny-turnaj-starsieho-ziactva-trieda-c/
LOCATION:Tenisový klub Kúpele Piešťany\, E. Belluša 4821/2\, Piešťany\, 92101\, Slovenská republika
END:VEVENT
BEGIN:VEVENT
DTSTART;VALUE=DATE:20210703
DTEND;VALUE=DATE:20210706
DTSTAMP:20260425T222234
CREATED:20201201T123553Z
LAST-MODIFIED:20210618T100834Z
UID:9031-1625270400-1625529599@tenispiestany.sk
SUMMARY:ENSANA CUP - Celoštátny turnaj dospelých – trieda C
DESCRIPTION:
URL:https://tenispiestany.sk/turnaj/celostatny-turnaj-dospelych-trieda-c/
LOCATION:Tenisový klub Kúpele Piešťany\, E. Belluša 4821/2\, Piešťany\, 92101\, Slovenská republika
END:VEVENT
BEGIN:VEVENT
DTSTART;TZID=Europe/Bratislava:20210627T084500
DTEND;TZID=Europe/Bratislava:20210627T150000
DTSTAMP:20260425T222234
CREATED:20201201T123449Z
LAST-MODIFIED:20210617T122006Z
UID:9029-1624783500-1624806000@tenispiestany.sk
SUMMARY:Hameln cup - celoštátny turnaj detí do 8 rokov
DESCRIPTION:
URL:https://tenispiestany.sk/turnaj/celostatny-turnaj-deti-do-8-rokov-2/
LOCATION:Tenisový klub Kúpele Piešťany\, E. Belluša 4821/2\, Piešťany\, 92101\, Slovenská republika
END:VEVENT
BEGIN:VEVENT
DTSTART;VALUE=DATE:20210616
DTEND;VALUE=DATE:20210622
DTSTAMP:20260425T222234
CREATED:20201201T123323Z
LAST-MODIFIED:20201201T123323Z
UID:9027-1623801600-1624319999@tenispiestany.sk
SUMMARY:Celoštátny turnaj mladšieho žiactva – trieda A
DESCRIPTION:
URL:https://tenispiestany.sk/turnaj/celostatny-turnaj-mladsieho-ziactva-trieda-a/
LOCATION:Tenisový klub Kúpele Piešťany\, E. Belluša 4821/2\, Piešťany\, 92101\, Slovenská republika
END:VEVENT
END:VCALENDAR