BEGIN:VCALENDAR
VERSION:2.0
PRODID:-//Tenisový Klub Kúpele Piešťany - ECPv6.15.17//NONSGML v1.0//EN
CALSCALE:GREGORIAN
METHOD:PUBLISH
X-ORIGINAL-URL:https://tenispiestany.sk
X-WR-CALDESC:Udalosti pre Tenisový Klub Kúpele Piešťany
REFRESH-INTERVAL;VALUE=DURATION:PT1H
X-Robots-Tag:noindex
X-PUBLISHED-TTL:PT1H
BEGIN:VTIMEZONE
TZID:Europe/Bratislava
BEGIN:DAYLIGHT
TZOFFSETFROM:+0100
TZOFFSETTO:+0200
TZNAME:CEST
DTSTART:20190331T010000
END:DAYLIGHT
BEGIN:STANDARD
TZOFFSETFROM:+0200
TZOFFSETTO:+0100
TZNAME:CET
DTSTART:20191027T010000
END:STANDARD
BEGIN:DAYLIGHT
TZOFFSETFROM:+0100
TZOFFSETTO:+0200
TZNAME:CEST
DTSTART:20200329T010000
END:DAYLIGHT
BEGIN:STANDARD
TZOFFSETFROM:+0200
TZOFFSETTO:+0100
TZNAME:CET
DTSTART:20201025T010000
END:STANDARD
BEGIN:DAYLIGHT
TZOFFSETFROM:+0100
TZOFFSETTO:+0200
TZNAME:CEST
DTSTART:20210328T010000
END:DAYLIGHT
BEGIN:STANDARD
TZOFFSETFROM:+0200
TZOFFSETTO:+0100
TZNAME:CET
DTSTART:20211031T010000
END:STANDARD
END:VTIMEZONE
BEGIN:VEVENT
DTSTART;TZID=Europe/Bratislava:20200610T090000
DTEND;TZID=Europe/Bratislava:20200610T150000
DTSTAMP:20260426T041358
CREATED:20200608T192356Z
LAST-MODIFIED:20200608T192524Z
UID:8608-1591779600-1591801200@tenispiestany.sk
SUMMARY:Semifinále extraligy žien v  TK Kúpele Piešťany – TK Slovan Bratislava.
DESCRIPTION:
URL:https://tenispiestany.sk/turnaj/semifinale-extraligy-zien-v-tk-kupele-piestany-tk-slovan-bratislava/
END:VEVENT
BEGIN:VEVENT
DTSTART;TZID=Europe/Bratislava:20200608T090000
DTEND;TZID=Europe/Bratislava:20200608T150000
DTSTAMP:20260426T041358
CREATED:20200526T181111Z
LAST-MODIFIED:20200528T064322Z
UID:8567-1591606800-1591628400@tenispiestany.sk
SUMMARY:Extraliga žien TK Kúpele Piešťany – TK Ružomberok
DESCRIPTION:
URL:https://tenispiestany.sk/turnaj/extraliga-zien-tk-kupele-piestany-tk-ruzomberok/
END:VEVENT
BEGIN:VEVENT
DTSTART;TZID=Europe/Bratislava:20200510T080000
DTEND;TZID=Europe/Bratislava:20200517T170000
DTSTAMP:20260426T041358
CREATED:20200305T095655Z
LAST-MODIFIED:20200324T141051Z
UID:7571-1589097600-1589734800@tenispiestany.sk
SUMMARY:27th Piešťany Chirosan Cup TEJT 1\, U14 - ZRUŠENÝ!
DESCRIPTION:
URL:https://tenispiestany.sk/turnaj/27th-piestany-chirosan-cup-tejt-1-u14/
LOCATION:Tenisový klub Kúpele Piešťany\, E. Belluša 4821/2\, Piešťany\, 92101\, Slovenská republika
CATEGORIES:Jednotlivci
END:VEVENT
BEGIN:VEVENT
DTSTART;VALUE=DATE:20200420
DTEND;VALUE=DATE:20200427
DTSTAMP:20260426T041358
CREATED:20200304T100654Z
LAST-MODIFIED:20200323T120445Z
UID:7475-1587340800-1587945599@tenispiestany.sk
SUMMARY:42nd Slovakia Cup ITF 2\, U18 - ZRUŠENÝ!
DESCRIPTION: 
URL:https://tenispiestany.sk/turnaj/42nd-slovakia-cup-itf-2-u18/
LOCATION:Tenisový klub Kúpele Piešťany\, E. Belluša 4821/2\, Piešťany\, 92101\, Slovenská republika
CATEGORIES:Jednotlivci
END:VEVENT
END:VCALENDAR